BEGIN:VCALENDAR
VERSION:2.0
PRODID:-//Feuille Blanche, Café Noir - ECPv6.15.20//NONSGML v1.0//EN
CALSCALE:GREGORIAN
METHOD:PUBLISH
X-WR-CALNAME:Feuille Blanche, Café Noir
X-ORIGINAL-URL:https://feuilleblanchecafenoir.com
X-WR-CALDESC:Évènements pour Feuille Blanche, Café Noir
REFRESH-INTERVAL;VALUE=DURATION:PT1H
X-Robots-Tag:noindex
X-PUBLISHED-TTL:PT1H
BEGIN:VTIMEZONE
TZID:Europe/Paris
BEGIN:DAYLIGHT
TZOFFSETFROM:+0100
TZOFFSETTO:+0200
TZNAME:CEST
DTSTART:20250330T010000
END:DAYLIGHT
BEGIN:STANDARD
TZOFFSETFROM:+0200
TZOFFSETTO:+0100
TZNAME:CET
DTSTART:20251026T010000
END:STANDARD
BEGIN:DAYLIGHT
TZOFFSETFROM:+0100
TZOFFSETTO:+0200
TZNAME:CEST
DTSTART:20260329T010000
END:DAYLIGHT
BEGIN:STANDARD
TZOFFSETFROM:+0200
TZOFFSETTO:+0100
TZNAME:CET
DTSTART:20261025T010000
END:STANDARD
BEGIN:DAYLIGHT
TZOFFSETFROM:+0100
TZOFFSETTO:+0200
TZNAME:CEST
DTSTART:20270328T010000
END:DAYLIGHT
BEGIN:STANDARD
TZOFFSETFROM:+0200
TZOFFSETTO:+0100
TZNAME:CET
DTSTART:20271031T010000
END:STANDARD
END:VTIMEZONE
BEGIN:VEVENT
DTSTART;TZID=Europe/Paris:20260418T160000
DTEND;TZID=Europe/Paris:20260418T180000
DTSTAMP:20260422T032650
CREATED:20260325T115931Z
LAST-MODIFIED:20260410T133640Z
UID:10000824-1776528000-1776535200@feuilleblanchecafenoir.com
SUMMARY:Atelier créatif : peindre sans savoir dessiner - détente moment a soit
DESCRIPTION:Réservation\n\n\n\n\nLors de cet atelier créatif viens découvrir la technique de l’aquarelle (ou autre) \n\n\n\nPas besoin de savoir dessiné\, aucune base requis. \n\n\n\nLe but : prendre un bon moment créatif\, se déconnecter\, se détendre et apprendre ou approfondir une nouvelle technique sans attente \n\n\n\nTarif Solo 30€ – Duo 54€ \n\n\n\n\nRéservation
URL:https://feuilleblanchecafenoir.com/event/atelier-creatif-aquarelle/
LOCATION:Feuille Blanche\, Café Noir (Paris 17)\, 102 rue truffaut\, Paris\, 75017\, France
CATEGORIES:Event
ATTACH;FMTTYPE=image/png:https://feuilleblanchecafenoir.com/wp-content/uploads/2026/01/IMG_5838.png
END:VEVENT
BEGIN:VEVENT
DTSTART;TZID=Europe/Paris:20260418T103000
DTEND;TZID=Europe/Paris:20260418T120000
DTSTAMP:20260422T032650
CREATED:20260318T103713Z
LAST-MODIFIED:20260318T103917Z
UID:10000819-1776508200-1776513600@feuilleblanchecafenoir.com
SUMMARY:Eveil art plastique
DESCRIPTION:Éveil artistique\n\n\n\n\nRéservation\n\n\n\n\nUn premier pas tout en douceur dans l’univers créatif Avec nos ateliers d’éveil a l’art plastique. \n\n\n\nLes petits explorent les couleurs\, les matières et les formes à travers des activités simples et sensorielles\, adaptées à leur âge. L’objectif : stimuler leur curiosité\, développer leurs sens et partager un moment complice avec le parent. \n\n\n\nPas besoin de “savoir faire” : ici\, on touche\, on découvre\, on s’amuse ! \n\n\n\n1 samedi matin par mois  \n\n\n\n18mois-2ans : 30min 10h30 – 11hTarif 12€ \n\n\n\n2-3ans : 45min11h – 11h45Tarif 15€ \n\n\n\n\nRéservation
URL:https://feuilleblanchecafenoir.com/event/eveil-art-plastique/
LOCATION:Feuille Blanche\, Café Noir (Paris 17)\, 102 rue truffaut\, Paris\, 75017\, France
CATEGORIES:Enfant
ATTACH;FMTTYPE=image/jpeg:https://feuilleblanchecafenoir.com/wp-content/uploads/2025/03/Presentation-Basique-et-Simple-Gouttes-Pastel-e1742802771727.jpg
END:VEVENT
BEGIN:VEVENT
DTSTART;TZID=Europe/Paris:20260415T100000
DTEND;TZID=Europe/Paris:20260415T120000
DTSTAMP:20260422T032650
CREATED:20260408T081434Z
LAST-MODIFIED:20260408T081804Z
UID:10000841-1776247200-1776254400@feuilleblanchecafenoir.com
SUMMARY:Les Racontines : contes & comptines (0-3ans)
DESCRIPTION:Les Racontines\n\n\n\nAvec Lucine offrez un moment de plaisir\, de partage\, une bulle de bonheur et de douceur \n\n\n\nÉveiller l’imaginaire de bébé à travers mots\, images et sons \n\n\n\nPermettre à bébé de vivre des aventures et d’appréhender ses émotions \n\n\n\nLe spectacle durait environ 40min\, chaque mois 2 sessions\, soyez à l’heure\, voir 10min en avance!! \n\n\n\n\n10h-10h45\n\n\n\n11h-11h45\n\n\n\n\n \n\n\n\n \n\n\n\n\nRéservation
URL:https://feuilleblanchecafenoir.com/event/les-racontines-contes-comptines-4/
LOCATION:Feuille Blanche\, Café Noir (Paris 17)\, 102 rue truffaut\, Paris\, 75017\, France
CATEGORIES:Enfant,Event
ATTACH;FMTTYPE=image/jpeg:https://feuilleblanchecafenoir.com/wp-content/uploads/2026/02/IMG_6072.jpeg
END:VEVENT
BEGIN:VEVENT
DTSTART;TZID=Europe/Paris:20260411T150000
DTEND;TZID=Europe/Paris:20260411T170000
DTSTAMP:20260422T032650
CREATED:20260317T074509Z
LAST-MODIFIED:20260408T155109Z
UID:10000817-1775919600-1775926800@feuilleblanchecafenoir.com
SUMMARY:Découverte Linogravure 🪛 (COMPLET)
DESCRIPTION:Réservation\n\n\n\n\nCet atelier créatif te plonges dans l’univers de la Linogravure pour concevoir des impressions uniques et personnalisées ! Durant cet atelier\, apprends à graver\, encrer et imprimer tes propres motifs sur du papier de qualité. \n\n\n\n🕰️ Durée: 2h🧒 Pour qui : Tous niveaux bienvenus\, adultes et adolescents à partir de 14ans📜 Au programme : \n\n\n\n\nRepars avec ton estamp pour en faire autant que tu veux chez toi\n\n\n\nApprends à graver\, \n\n\n\nEncrer et imprimer tes propres motifs sur du papier de qualité\n\n\n\n\n\n\n\nRéservation
URL:https://feuilleblanchecafenoir.com/event/decouverte-linogravure-%f0%9f%aa%9b/
LOCATION:Feuille Blanche\, Café Noir (Paris 17)\, 102 rue truffaut\, Paris\, 75017\, France
CATEGORIES:Event
ATTACH;FMTTYPE=image/jpeg:https://feuilleblanchecafenoir.com/wp-content/uploads/2024/12/IMG_4269-e1738270562668.jpeg
END:VEVENT
BEGIN:VEVENT
DTSTART;TZID=Europe/Paris:20260411T130000
DTEND;TZID=Europe/Paris:20260411T150000
DTSTAMP:20260422T032650
CREATED:20260408T154952Z
LAST-MODIFIED:20260408T154956Z
UID:10000855-1775912400-1775919600@feuilleblanchecafenoir.com
SUMMARY:Découverte Linogravure 🪛
DESCRIPTION:Réservation\n\n\n\n\nCet atelier créatif te plonges dans l’univers de la Linogravure pour concevoir des impressions uniques et personnalisées ! Durant cet atelier\, apprends à graver\, encrer et imprimer tes propres motifs sur du papier de qualité. \n\n\n\n🕰️ Durée: 2h🧒 Pour qui : Tous niveaux bienvenus\, adultes et adolescents à partir de 14ans📜 Au programme : \n\n\n\n\nRepars avec ton estamp pour en faire autant que tu veux chez toi\n\n\n\nApprends à graver\, \n\n\n\nEncrer et imprimer tes propres motifs sur du papier de qualité\n\n\n\n\n\n\n\nRéservation
URL:https://feuilleblanchecafenoir.com/event/decouverte-linogravure-%f0%9f%aa%9b-8/
LOCATION:Feuille Blanche\, Café Noir (Paris 17)\, 102 rue truffaut\, Paris\, 75017\, France
CATEGORIES:Event
ATTACH;FMTTYPE=image/jpeg:https://feuilleblanchecafenoir.com/wp-content/uploads/2024/12/IMG_4269-e1738270562668.jpeg
END:VEVENT
BEGIN:VEVENT
DTSTART;TZID=Europe/Paris:20260411T100000
DTEND;TZID=Europe/Paris:20260411T120000
DTSTAMP:20260422T032650
CREATED:20251018T135346Z
LAST-MODIFIED:20260410T083214Z
UID:10000657-1775901600-1775908800@feuilleblanchecafenoir.com
SUMMARY:🎶 Spectacle d’éveil musical – Voyage autour du monde (0-3ans)
DESCRIPTION:Eveil Musical\n\n\n\n\nRéservation\n\n\n\n\nAvec Marion\, intervenante musique et chant. \n\n\n\nCe spectacle était pensé comme un moment doux et interactif\, destiné aux tout-petits (0 à 3 ans) et à leurs parents\, autour de la célèbre comptine. \n\n\n\nIl mêlait : \n\n\n\n\n🎵 Chants et percussions douces\, adaptés aux tout-petits\n\n\n\n🎭 Marionnettes ou éléments visuels évoquant l’univers marin (bateaux\, vagues\, mouettes…)\n\n\n\n🐚 Petits instruments mis à disposition à la fin pour une exploration libre par les enfants\n\n\n\n🤝 Un format immersif et participatif : les parents étaient invités à chanter\, bouger\, faire des gestes avec les enfants\n\n\n\n\nLe spectacle durait environ 1h\, chaque mois 2 sessions\, soyez à l’heure 😉 voir 10min en avance!! \n\n\n\n\n10h-10h45\n\n\n\n11h-11h45\n\n\n\n\nLes thèmes : \n\n\n\n\n13 septembre : les animaux du zoo\n\n\n\n18 octobre : L’automne\n\n\n\n15 novembre : La famille \n\n\n\n13 décembre : L’hiver\n\n\n\n10 janvier : Les couleurs\n\n\n\n7 février : Crêpes et chocolat\n\n\n\n28 mars : Le printemps\n\n\n\n11 avril : Voyage autour du monde\n\n\n\n16 mai : Ballade en forêt\n\n\n\n13 juin : La mer\n\n\n\n\n\nRéservation\n\n\n\n\nEn savoir plus sur Marion : visitez son site internet !
URL:https://feuilleblanchecafenoir.com/event/%f0%9f%8e%b6-spectacle-deveil-musical-voyage-autour-du-monde/
LOCATION:Feuille Blanche\, Café Noir (Paris 17)\, 102 rue truffaut\, Paris\, 75017\, France
CATEGORIES:Enfant,Event
ATTACH;FMTTYPE=image/webp:https://feuilleblanchecafenoir.com/wp-content/uploads/2025/02/IMG_4493-e1739979464763.webp
END:VEVENT
BEGIN:VEVENT
DTSTART;TZID=Europe/Paris:20260409T093000
DTEND;TZID=Europe/Paris:20260409T120000
DTSTAMP:20260422T032650
CREATED:20260325T124222Z
LAST-MODIFIED:20260325T124225Z
UID:10000830-1775727000-1775736000@feuilleblanchecafenoir.com
SUMMARY:Petits-Dejs des entrepreneurs
DESCRIPTION:Réservation\n\n\n\n\nBonjour à toutes et à tous\, je m’appelle Bénédicte\, fondatrice de Feuille Blanche\, Café Noir\, un lieu culturel et créatif où je collabore déjà avec de nombreux artistes. Grâce à mon parcours d’entrepreneure\, enrichi par des formations et de belles rencontres\, j’ai découvert à quel point l’échange et le partage d’expérience sont essentiels pour avancer. \n\n\n\n👉 C’est pourquoi j’ai envie d’ouvrir aussi mon espace aux entrepreneurs\, avec un rendez-vous régulier et convivial : \n\n\n\n📅 Petit-Déj : un jeudi sur deux⏰ De 9h30 à 12h👥 En petit comité (4 à 8 personnes)💡 Une séance de co-développement ou d’échange autour de sujets concrets (prospection\, communication\, financements\, équilibre vie pro/perso…)☕️ 1 Café inclus \n\n\n\nUn chat permettra de proposer des thèmes à l’avance et de choisir les sessions qui vous intéressent.J’animerai les rencontres\, mais l’esprit reste collaboratif : chacun apporte sa graine 🌱. \n\n\n\n✨ Si tu es entrepreneur·e ou en création et que tu veux rejoindre l’aventure\, inscrits toi \n\n\n\nHâte de partager ce premier café avec vous ☕️🚀 \n\n\n\n\n\n\nRéservation
URL:https://feuilleblanchecafenoir.com/event/petits-dejs-des-entrepreneurs-2/
LOCATION:Feuille Blanche\, Café Noir (Paris 17)\, 102 rue truffaut\, Paris\, 75017\, France
CATEGORIES:Event
ATTACH;FMTTYPE=image/png:https://feuilleblanchecafenoir.com/wp-content/uploads/2025/08/IMG_3256.png
END:VEVENT
BEGIN:VEVENT
DTSTART;TZID=Europe/Paris:20260408T140000
DTEND;TZID=Europe/Paris:20260408T183000
DTSTAMP:20260422T032650
CREATED:20260221T132348Z
LAST-MODIFIED:20260221T132350Z
UID:10000798-1775656800-1775673000@feuilleblanchecafenoir.com
SUMMARY:Ateliers créatifs Enfants
DESCRIPTION:On se retrouve tous les mercredis de l’année pour des ateliers créatifs enfants \n\n\n\nVoici le planning des activités créatives pour l’année scolaire 2025-2026\, de nouvelles activités pourront être rajouté au planning en cours d’année en fonction de l’évolution du lieu et des propositions de nouveau artistes. \n\n\n\nCalendrier atelier créatifs\n\n\n\n\n14-15h : 3-5 ans 15€ la séance 135€ les 10 séances\n\n\n\n15h15-16h45 : 6-10 ans 19€ la séance 170€ les 10 séances\n\n\n\n17h -18h30 : 11+ ans 22€ la séance 200 les 10 séances\n\n\n\n\n\nen savoir plus\n\n\n\n\nInfo & réservation 0760847892\, par mail benedicte@feuilleblanchecafenoir.com ou directement sur place
URL:https://feuilleblanchecafenoir.com/event/ateliers-creatifs-enfants-7/
LOCATION:Feuille Blanche\, Café Noir (Paris 17)\, 102 rue truffaut\, Paris\, 75017\, France
END:VEVENT
BEGIN:VEVENT
DTSTART;TZID=Europe/Paris:20260401T140000
DTEND;TZID=Europe/Paris:20260401T183000
DTSTAMP:20260422T032650
CREATED:20260221T131831Z
LAST-MODIFIED:20260221T131900Z
UID:10000797-1775052000-1775068200@feuilleblanchecafenoir.com
SUMMARY:Ateliers créatifs Enfants
DESCRIPTION:On se retrouve tous les mercredis de l’année pour des ateliers créatifs enfants \n\n\n\nVoici le planning des activités créatives pour l’année scolaire 2025-2026\, de nouvelles activités pourront être rajouté au planning en cours d’année en fonction de l’évolution du lieu et des propositions de nouveau artistes. \n\n\n\nCalendrier atelier créatifs\n\n\n\n\n14-15h : 3-5 ans 15€ la séance 135€ les 10 séances\n\n\n\n15h15-16h45 : 6-10 ans 19€ la séance 170€ les 10 séances\n\n\n\n17h -18h30 : 11+ ans 22€ la séance 200 les 10 séances\n\n\n\n\n\nen savoir plus\n\n\n\n\nInfo & réservation 0760847892\, par mail benedicte@feuilleblanchecafenoir.com ou directement sur place
URL:https://feuilleblanchecafenoir.com/event/ateliers-creatifs-enfants-4/
LOCATION:Feuille Blanche\, Café Noir (Paris 17)\, 102 rue truffaut\, Paris\, 75017\, France
END:VEVENT
BEGIN:VEVENT
DTSTART;TZID=Europe/Paris:20260328T160000
DTEND;TZID=Europe/Paris:20260328T180000
DTSTAMP:20260422T032650
CREATED:20260218T164004Z
LAST-MODIFIED:20260218T164140Z
UID:10000769-1774713600-1774720800@feuilleblanchecafenoir.com
SUMMARY:Atelier créatif : Aquarelle
DESCRIPTION:Réservation\n\n\n\n\nLors de cet atelier créatif viens découvrir la technique de l’aquarelle. \n\n\n\nPas besoin de savoir dessiné\, aucune base requis. \n\n\n\nLe but : prendre un bon moment créatif\, se déconnecter\, se détendre et apprendre ou approfondir une nouvelle technique sans attente \n\n\n\nTarif Solo 30€ – Duo 52€ \n\n\n\n\nRéservation
URL:https://feuilleblanchecafenoir.com/event/atelier-creatif-aquarelle-2/
LOCATION:Feuille Blanche\, Café Noir (Paris 17)\, 102 rue truffaut\, Paris\, 75017\, France
CATEGORIES:Event
ATTACH;FMTTYPE=image/png:https://feuilleblanchecafenoir.com/wp-content/uploads/2026/01/IMG_5838.png
END:VEVENT
BEGIN:VEVENT
DTSTART;TZID=Europe/Paris:20260328T100000
DTEND;TZID=Europe/Paris:20260328T120000
DTSTAMP:20260422T032650
CREATED:20251018T135236Z
LAST-MODIFIED:20260207T102649Z
UID:10000656-1774692000-1774699200@feuilleblanchecafenoir.com
SUMMARY:🎶 Spectacle d’éveil musical – Le printemps
DESCRIPTION:Eveil Musical\n\n\n\n\nRéservation\n\n\n\n\nAvec Marion\, intervenante musique et chant. \n\n\n\nCe spectacle était pensé comme un moment doux et interactif\, destiné aux tout-petits (0 à 3 ans) et à leurs parents\, autour de la célèbre comptine. \n\n\n\nIl mêlait : \n\n\n\n\n🎵 Chants et percussions douces\, adaptés aux tout-petits\n\n\n\n🎭 Marionnettes ou éléments visuels évoquant l’univers marin (bateaux\, vagues\, mouettes…)\n\n\n\n🐚 Petits instruments mis à disposition à la fin pour une exploration libre par les enfants\n\n\n\n🤝 Un format immersif et participatif : les parents étaient invités à chanter\, bouger\, faire des gestes avec les enfants\n\n\n\n\nLe spectacle durait environ 1h\, chaque mois 2 sessions\, soyez à l’heure 😉 voir 10min en avance!! \n\n\n\n\n10h-10h45\n\n\n\n11h-11h45\n\n\n\n\nLes thèmes : \n\n\n\n\n13 septembre : les animaux du zoo\n\n\n\n18 octobre : L’automne\n\n\n\n15 novembre : La famille \n\n\n\n13 décembre : L’hiver\n\n\n\n10 janvier : Les couleurs\n\n\n\n7 février : Crêpes et chocolat\n\n\n\n28 mars : Le printemps\n\n\n\n11 avril : Voyate autour du monde\n\n\n\n16 mai : Ballade en forêt\n\n\n\n13 juin : La mer\n\n\n\n\n\nRéservation
URL:https://feuilleblanchecafenoir.com/event/%f0%9f%8e%b6-spectacle-deveil-musical-le-printemps/
LOCATION:Feuille Blanche\, Café Noir (Paris 17)\, 102 rue truffaut\, Paris\, 75017\, France
CATEGORIES:Enfant,Event
ATTACH;FMTTYPE=image/webp:https://feuilleblanchecafenoir.com/wp-content/uploads/2025/02/IMG_4493-e1739979464763.webp
END:VEVENT
BEGIN:VEVENT
DTSTART;TZID=Europe/Paris:20260326T190000
DTEND;TZID=Europe/Paris:20260326T210000
DTSTAMP:20260422T032650
CREATED:20260218T165422Z
LAST-MODIFIED:20260218T165425Z
UID:10000771-1774551600-1774558800@feuilleblanchecafenoir.com
SUMMARY:Découverte Linogravure 🪛
DESCRIPTION:Réservation\n\n\n\n\nCet atelier créatif te plonges dans l’univers de la Linogravure pour concevoir des impressions uniques et personnalisées ! Durant cet atelier\, apprends à graver\, encrer et imprimer tes propres motifs sur du papier de qualité. \n\n\n\n🕰️ Durée: 2h🧒 Pour qui : Tous niveaux bienvenus\, adultes et adolescents à partir de 14ans📜 Au programme : \n\n\n\n\nRepars avec ton estamp pour en faire autant que tu veux chez toi\n\n\n\nApprends à graver\, \n\n\n\nEncrer et imprimer tes propres motifs sur du papier de qualité\n\n\n\n\n\n\n\nRéservation
URL:https://feuilleblanchecafenoir.com/event/decouverte-linogravure-%f0%9f%aa%9b-7/
LOCATION:Feuille Blanche\, Café Noir (Paris 17)\, 102 rue truffaut\, Paris\, 75017\, France
CATEGORIES:Event
ATTACH;FMTTYPE=image/jpeg:https://feuilleblanchecafenoir.com/wp-content/uploads/2024/12/IMG_4269-e1738270562668.jpeg
END:VEVENT
BEGIN:VEVENT
DTSTART;TZID=Europe/Paris:20260326T093000
DTEND;TZID=Europe/Paris:20260326T120000
DTSTAMP:20260422T032650
CREATED:20260218T164333Z
LAST-MODIFIED:20260218T164335Z
UID:10000770-1774517400-1774526400@feuilleblanchecafenoir.com
SUMMARY:Petits-Dejs des entrepreneurs
DESCRIPTION:Réservation\n\n\n\n\nBonjour à toutes et à tous\, je m’appelle Bénédicte\, fondatrice de Feuille Blanche\, Café Noir\, un lieu culturel et créatif où je collabore déjà avec de nombreux artistes. Grâce à mon parcours d’entrepreneure\, enrichi par des formations et de belles rencontres\, j’ai découvert à quel point l’échange et le partage d’expérience sont essentiels pour avancer. \n\n\n\n👉 C’est pourquoi j’ai envie d’ouvrir aussi mon espace aux entrepreneurs\, avec un rendez-vous régulier et convivial : \n\n\n\n📅 Petit-Déj : un jeudi sur deux⏰ De 9h30 à 12h👥 En petit comité (4 à 8 personnes)💡 Une séance de co-développement ou d’échange autour de sujets concrets (prospection\, communication\, financements\, équilibre vie pro/perso…)☕️ 1 Café inclus \n\n\n\nUn chat permettra de proposer des thèmes à l’avance et de choisir les sessions qui vous intéressent.J’animerai les rencontres\, mais l’esprit reste collaboratif : chacun apporte sa graine 🌱. \n\n\n\n✨ Si tu es entrepreneur·e ou en création et que tu veux rejoindre l’aventure\, inscrits toi \n\n\n\nHâte de partager ce premier café avec vous ☕️🚀 \n\n\n\n\n\n\nRéservation
URL:https://feuilleblanchecafenoir.com/event/petits-dejs-des-entrepreneurs/
LOCATION:Feuille Blanche\, Café Noir (Paris 17)\, 102 rue truffaut\, Paris\, 75017\, France
CATEGORIES:Event
ATTACH;FMTTYPE=image/png:https://feuilleblanchecafenoir.com/wp-content/uploads/2025/08/IMG_3256.png
END:VEVENT
BEGIN:VEVENT
DTSTART;TZID=Europe/Paris:20260325T140000
DTEND;TZID=Europe/Paris:20260325T183000
DTSTAMP:20260422T032650
CREATED:20260221T131645Z
LAST-MODIFIED:20260221T131647Z
UID:10000795-1774447200-1774463400@feuilleblanchecafenoir.com
SUMMARY:Ateliers créatifs Enfants
DESCRIPTION:On se retrouve tous les mercredis de l’année pour des ateliers créatifs enfants \n\n\n\nVoici le planning des activités créatives pour l’année scolaire 2025-2026\, de nouvelles activités pourront être rajouté au planning en cours d’année en fonction de l’évolution du lieu et des propositions de nouveau artistes. \n\n\n\nCalendrier atelier créatifs\n\n\n\n\n14-15h : 3-5 ans 15€ la séance 135€ les 10 séances\n\n\n\n15h15-16h45 : 6-10 ans 19€ la séance 170€ les 10 séances\n\n\n\n17h -18h30 : 11+ ans 22€ la séance 200 les 10 séances\n\n\n\n\n\nen savoir plus\n\n\n\n\nInfo & réservation 0760847892\, par mail benedicte@feuilleblanchecafenoir.com ou directement sur place
URL:https://feuilleblanchecafenoir.com/event/ateliers-creatifs-enfants-3/
LOCATION:Feuille Blanche\, Café Noir (Paris 17)\, 102 rue truffaut\, Paris\, 75017\, France
END:VEVENT
END:VCALENDAR